BEGIN:VCALENDAR
VERSION:2.0
PRODID:LFV Website-Kit
METHOD:PUBLISH
BEGIN:VEVENT
UID:lfv-328d4171-1146-43a6-8354-196b5dd78186
LOCATION:
SUMMARY:Bundesweiter Warntag
DESCRIPTION:Termin Link: https://www.feuerwehr-peutenhausen.de/termine/bundesweiter-warntag-3/
URL:https://www.feuerwehr-peutenhausen.de/termine/bundesweiter-warntag-3/
CLASS:PRIVATE
DTSTART;TZID=Europe/Berlin:20260910T110000
DTEND;TZID=Europe/Berlin:20260910T120000
DTSTAMP:20260425T131613Z
END:VEVENT
END:VCALENDAR