BEGIN:VCALENDAR
VERSION:2.0
PRODID:LFV Website-Kit
METHOD:PUBLISH
BEGIN:VEVENT
UID:lfv-a0308619-5eb0-40b5-b41e-8353377ea7b5
LOCATION:
SUMMARY:Probealarm
DESCRIPTION:Termin Link: https://www.feuerwehr-peutenhausen.de/termine/probealarm-10/
URL:https://www.feuerwehr-peutenhausen.de/termine/probealarm-10/
CLASS:PRIVATE
DTSTART;TZID=Europe/Berlin:20260704T113000
DTEND;TZID=Europe/Berlin:20260704T120000
DTSTAMP:20260425T130639Z
END:VEVENT
END:VCALENDAR