BEGIN:VCALENDAR
VERSION:2.0
PRODID:LFV Website-Kit
METHOD:PUBLISH
BEGIN:VEVENT
UID:lfv-0211b51b-1c6f-443f-8ab0-1fdf43c25f23
LOCATION:
SUMMARY:Probealarm
DESCRIPTION:Termin Link: https://www.feuerwehr-peutenhausen.de/termine/probealarm-11/
URL:https://www.feuerwehr-peutenhausen.de/termine/probealarm-11/
CLASS:PRIVATE
DTSTART;TZID=Europe/Berlin:20261010T113000
DTEND;TZID=Europe/Berlin:20261010T120000
DTSTAMP:20260425T131026Z
END:VEVENT
END:VCALENDAR